BEGIN:VCALENDAR
VERSION:2.0
PRODID:-//FreeChurch Linköping - ECPv5.7.1//NONSGML v1.0//EN
CALSCALE:GREGORIAN
METHOD:PUBLISH
X-WR-CALNAME:FreeChurch Linköping
X-ORIGINAL-URL:https://freechurch.se
X-WR-CALDESC:Händelser för FreeChurch Linköping
BEGIN:VTIMEZONE
TZID:Europe/Helsinki
BEGIN:DAYLIGHT
TZOFFSETFROM:+0200
TZOFFSETTO:+0300
TZNAME:EEST
DTSTART:20260329T010000
END:DAYLIGHT
BEGIN:STANDARD
TZOFFSETFROM:+0300
TZOFFSETTO:+0200
TZNAME:EET
DTSTART:20261025T010000
END:STANDARD
END:VTIMEZONE
BEGIN:VEVENT
DTSTART;TZID=Europe/Helsinki:20260422T180000
DTEND;TZID=Europe/Helsinki:20260422T200000
DTSTAMP:20260425T190848
CREATED:20260420T200158Z
LAST-MODIFIED:20260420T200158Z
UID:6267-1776880800-1776888000@freechurch.se
SUMMARY:BÖN kl. 18:00 - 20:00 Palmhuset Hotel Ekoxen Linköping
DESCRIPTION:
URL:https://freechurch.se/event/bon-kl-1800-2000-palmhuset-hotel-ekoxen-linkoping-3/
LOCATION:Quality Hotel Ekoxen Sandbäcksgatan 1\, 582 23 Linköping\, Klostergatan 68\, Linköping\, 58223\, Sverige
END:VEVENT
END:VCALENDAR